Package: pwalign Version: 1.5.0 Command: /home/biocbuild/bbs-3.22-bioc/R/bin/R CMD INSTALL pwalign StartedAt: 2025-10-21 15:51:27 -0400 (Tue, 21 Oct 2025) EndedAt: 2025-10-21 15:51:42 -0400 (Tue, 21 Oct 2025) EllapsedTime: 15.2 seconds RetCode: 0 Status: OK