Package: proDA Version: 1.23.0 Command: /home/biocbuild/bbs-3.22-bioc/R/bin/R CMD INSTALL proDA StartedAt: 2025-10-20 15:35:06 -0400 (Mon, 20 Oct 2025) EndedAt: 2025-10-20 15:35:27 -0400 (Mon, 20 Oct 2025) EllapsedTime: 21.2 seconds RetCode: 0 Status: OK