Package: proDA Version: 1.23.0 Command: /home/biocbuild/bbs-3.22-bioc/R/bin/R CMD build --keep-empty-dirs --no-resave-data --md5 proDA StartedAt: 2025-10-20 19:18:40 -0400 (Mon, 20 Oct 2025) EndedAt: 2025-10-20 19:20:01 -0400 (Mon, 20 Oct 2025) EllapsedTime: 81.1 seconds RetCode: 0 Status: OK PackageFile: proDA_1.23.0.tar.gz PackageFileSize: 1.353 MiB