Package: proBAMr Version: 1.43.1 Command: /home/biocbuild/bbs-3.22-bioc/R/bin/R CMD INSTALL proBAMr StartedAt: 2025-10-06 15:38:49 -0400 (Mon, 06 Oct 2025) EndedAt: 2025-10-06 15:39:25 -0400 (Mon, 06 Oct 2025) EllapsedTime: 35.9 seconds RetCode: 0 Status: OK