Package: proBAMr Version: 1.43.1 Command: /home/biocbuild/bbs-3.22-bioc/R/bin/R CMD build --keep-empty-dirs --no-resave-data --md5 proBAMr StartedAt: 2025-10-06 19:21:55 -0400 (Mon, 06 Oct 2025) EndedAt: 2025-10-06 19:23:09 -0400 (Mon, 06 Oct 2025) EllapsedTime: 73.0 seconds RetCode: 0 Status: OK PackageFile: proBAMr_1.43.1.tar.gz PackageFileSize: 815.5 KiB