Package: preciseTAD Version: 1.21.0 Command: /home/biocbuild/bbs-3.23-bioc/R/bin/R CMD INSTALL preciseTAD StartedAt: 2025-11-24 16:00:51 -0500 (Mon, 24 Nov 2025) EndedAt: 2025-11-24 16:01:33 -0500 (Mon, 24 Nov 2025) EllapsedTime: 42.8 seconds RetCode: 0 Status: OK