Package: preciseTAD Version: 1.21.0 Command: /Library/Frameworks/R.framework/Resources/bin/R CMD INSTALL preciseTAD StartedAt: 2025-11-18 15:55:22 -0500 (Tue, 18 Nov 2025) EndedAt: 2025-11-18 15:56:01 -0500 (Tue, 18 Nov 2025) EllapsedTime: 38.2 seconds RetCode: 0 Status: OK