Package: preciseTAD Version: 1.21.0 Command: /Library/Frameworks/R.framework/Resources/bin/R CMD build --keep-empty-dirs --no-resave-data preciseTAD StartedAt: 2025-11-18 18:11:45 -0500 (Tue, 18 Nov 2025) EndedAt: 2025-11-18 18:16:06 -0500 (Tue, 18 Nov 2025) EllapsedTime: 260.8 seconds RetCode: 0 Status: OK PackageFile: preciseTAD_1.21.0.tar.gz PackageFileSize: 4.072 MiB