Package: preciseTAD Version: 1.21.0 Command: /Library/Frameworks/R.framework/Resources/bin/R CMD INSTALL preciseTAD StartedAt: 2025-11-14 15:32:32 -0500 (Fri, 14 Nov 2025) EndedAt: 2025-11-14 15:32:49 -0500 (Fri, 14 Nov 2025) EllapsedTime: 16.8 seconds RetCode: 0 Status: OK