Package: preciseTAD Version: 1.21.0 Command: rm -rf preciseTAD.buildbin-libdir && mkdir preciseTAD.buildbin-libdir && /Users/biocbuild/BBS/utils/build-universal.sh preciseTAD_1.21.0.tar.gz /Library/Frameworks/R.framework/Resources/bin/R preciseTAD.buildbin-libdir StartedAt: 2025-11-14 23:46:00 -0500 (Fri, 14 Nov 2025) EndedAt: 2025-11-14 23:46:23 -0500 (Fri, 14 Nov 2025) EllapsedTime: 23.5 seconds RetCode: 0 Status: OK PackageFile: preciseTAD_1.21.0.tgz PackageFileSize: 4.775 MiB