Package: podkat Version: 1.41.1 Command: /home/biocbuild/bbs-3.22-bioc/R/bin/R CMD INSTALL podkat StartedAt: 2025-10-22 15:28:18 -0400 (Wed, 22 Oct 2025) EndedAt: 2025-10-22 15:29:31 -0400 (Wed, 22 Oct 2025) EllapsedTime: 72.5 seconds RetCode: 0 Status: OK