Package: podkat Version: 1.41.1 Command: /home/biocbuild/bbs-3.22-bioc/R/bin/R CMD build --keep-empty-dirs --no-resave-data --md5 podkat StartedAt: 2025-10-22 19:21:19 -0400 (Wed, 22 Oct 2025) EndedAt: 2025-10-22 19:23:42 -0400 (Wed, 22 Oct 2025) EllapsedTime: 143.1 seconds RetCode: 0 Status: OK PackageFile: podkat_1.41.1.tar.gz PackageFileSize: 1.093 MiB