Package: plotgardener Version: 1.15.1 Command: /home/biocbuild/bbs-3.22-bioc/R/bin/R CMD INSTALL plotgardener StartedAt: 2025-09-29 15:40:09 -0400 (Mon, 29 Sep 2025) EndedAt: 2025-09-29 15:41:14 -0400 (Mon, 29 Sep 2025) EllapsedTime: 64.6 seconds RetCode: 0 Status: OK