Package: plotGrouper Version: 1.29.0 Command: /home/biocbuild/bbs-3.23-bioc/R/bin/R CMD INSTALL plotGrouper StartedAt: 2025-11-19 15:13:05 -0500 (Wed, 19 Nov 2025) EndedAt: 2025-11-19 15:13:15 -0500 (Wed, 19 Nov 2025) EllapsedTime: 9.7 seconds RetCode: 0 Status: OK