Package: plotGrouper Version: 1.27.0 Command: /Library/Frameworks/R.framework/Resources/bin/R CMD build --keep-empty-dirs --no-resave-data plotGrouper StartedAt: 2025-10-27 18:09:50 -0400 (Mon, 27 Oct 2025) EndedAt: 2025-10-27 18:10:02 -0400 (Mon, 27 Oct 2025) EllapsedTime: 12.5 seconds RetCode: 0 Status: OK PackageFile: plotGrouper_1.27.0.tar.gz PackageFileSize: 704.6 KiB