Package: plotGrouper Version: 1.27.0 Command: /Library/Frameworks/R.framework/Resources/bin/R CMD INSTALL plotGrouper StartedAt: 2025-10-08 15:11:31 -0400 (Wed, 08 Oct 2025) EndedAt: 2025-10-08 15:11:37 -0400 (Wed, 08 Oct 2025) EllapsedTime: 5.7 seconds RetCode: 0 Status: OK