Package: plotGrouper Version: 1.27.0 Command: /Library/Frameworks/R.framework/Resources/bin/R CMD build --keep-empty-dirs --no-resave-data plotGrouper StartedAt: 2025-10-08 17:27:37 -0400 (Wed, 08 Oct 2025) EndedAt: 2025-10-08 17:27:41 -0400 (Wed, 08 Oct 2025) EllapsedTime: 4.0 seconds RetCode: 0 Status: OK PackageFile: plotGrouper_1.27.0.tar.gz PackageFileSize: 704.6 KiB