Package: plotGrouper Version: 1.27.0 Command: rm -rf plotGrouper.buildbin-libdir && mkdir plotGrouper.buildbin-libdir && /Users/biocbuild/BBS/utils/build-universal.sh plotGrouper_1.27.0.tar.gz /Library/Frameworks/R.framework/Resources/bin/R plotGrouper.buildbin-libdir StartedAt: 2025-10-10 22:52:13 -0400 (Fri, 10 Oct 2025) EndedAt: 2025-10-10 22:52:17 -0400 (Fri, 10 Oct 2025) EllapsedTime: 4.1 seconds RetCode: 0 Status: OK PackageFile: plotGrouper_1.27.0.tgz PackageFileSize: 371.2 KiB