Package: planet Version: 1.17.0 Command: /home/biocbuild/bbs-3.22-bioc/R/bin/R CMD INSTALL planet StartedAt: 2025-09-30 15:09:46 -0400 (Tue, 30 Sep 2025) EndedAt: 2025-09-30 15:09:52 -0400 (Tue, 30 Sep 2025) EllapsedTime: 5.5 seconds RetCode: 0 Status: OK