Package: pipeComp Version: 1.19.0 Command: /home/biocbuild/bbs-3.22-bioc/R/bin/R CMD build --keep-empty-dirs --no-resave-data --md5 pipeComp StartedAt: 2025-10-17 19:15:40 -0400 (Fri, 17 Oct 2025) EndedAt: 2025-10-17 19:17:23 -0400 (Fri, 17 Oct 2025) EllapsedTime: 103.1 seconds RetCode: 0 Status: OK PackageFile: pipeComp_1.19.0.tar.gz PackageFileSize: 3.925 MiB