Package: pgxRpi Version: 1.5.5 Command: /home/biocbuild/bbs-3.22-bioc/R/bin/R CMD INSTALL pgxRpi StartedAt: 2025-10-17 15:30:04 -0400 (Fri, 17 Oct 2025) EndedAt: 2025-10-17 15:30:07 -0400 (Fri, 17 Oct 2025) EllapsedTime: 3.0 seconds RetCode: 0 Status: OK