Package: pgxRpi Version: 1.5.5 Command: /home/biocbuild/bbs-3.22-bioc/R/bin/R CMD build --keep-empty-dirs --no-resave-data --md5 pgxRpi StartedAt: 2025-10-17 19:14:11 -0400 (Fri, 17 Oct 2025) EndedAt: 2025-10-17 19:27:37 -0400 (Fri, 17 Oct 2025) EllapsedTime: 805.8 seconds RetCode: 1 Status: ERROR PackageFile: None PackageFileSize: NA