Package: pepXMLTab Version: 1.43.0 Command: /home/biocbuild/bbs-3.22-bioc/R/bin/R CMD INSTALL pepXMLTab StartedAt: 2025-09-29 15:01:44 -0400 (Mon, 29 Sep 2025) EndedAt: 2025-09-29 15:01:52 -0400 (Mon, 29 Sep 2025) EllapsedTime: 8.1 seconds RetCode: 0 Status: OK