Package: pcaMethods Version: 2.3.0 Command: /home/biocbuild/bbs-3.23-bioc/R/bin/R CMD INSTALL pcaMethods StartedAt: 2025-11-07 15:12:52 -0500 (Fri, 07 Nov 2025) EndedAt: 2025-11-07 15:13:05 -0500 (Fri, 07 Nov 2025) EllapsedTime: 13.4 seconds RetCode: 0 Status: OK