Package: pcaMethods Version: 2.3.0 Command: /home/biocbuild/bbs-3.23-bioc/R/bin/R CMD build --keep-empty-dirs --no-resave-data pcaMethods StartedAt: 2025-11-07 19:09:22 -0500 (Fri, 07 Nov 2025) EndedAt: 2025-11-07 19:11:10 -0500 (Fri, 07 Nov 2025) EllapsedTime: 107.1 seconds RetCode: 0 Status: OK PackageFile: pcaMethods_2.3.0.tar.gz PackageFileSize: 1017 KiB