Package: pcaExplorer Version: 3.5.0 Command: rm -rf pcaExplorer.buildbin-libdir && mkdir pcaExplorer.buildbin-libdir && /Users/biocbuild/BBS/utils/build-universal.sh pcaExplorer_3.5.0.tar.gz /Library/Frameworks/R.framework/Resources/bin/R pcaExplorer.buildbin-libdir StartedAt: 2025-11-27 23:57:47 -0500 (Thu, 27 Nov 2025) EndedAt: 2025-11-27 23:58:15 -0500 (Thu, 27 Nov 2025) EllapsedTime: 28.8 seconds RetCode: 0 Status: OK PackageFile: pcaExplorer_3.5.0.tgz PackageFileSize: 8.386 MiB