Package: pathifier Version: 1.49.0 Command: /Library/Frameworks/R.framework/Resources/bin/R CMD build --keep-empty-dirs --no-resave-data pathifier StartedAt: 2025-11-21 17:14:19 -0500 (Fri, 21 Nov 2025) EndedAt: 2025-11-21 17:14:27 -0500 (Fri, 21 Nov 2025) EllapsedTime: 8.1 seconds RetCode: 0 Status: OK PackageFile: pathifier_1.49.0.tar.gz PackageFileSize: 2.033 MiB