Package: pRoloc Version: 1.49.1 Command: /home/biocbuild/bbs-3.22-bioc/R/bin/R CMD INSTALL pRoloc StartedAt: 2025-09-28 15:50:44 -0400 (Sun, 28 Sep 2025) EndedAt: 2025-09-28 15:52:04 -0400 (Sun, 28 Sep 2025) EllapsedTime: 80.4 seconds RetCode: 0 Status: OK