Package: optimalFlow Version: 1.21.0 Command: /home/biocbuild/bbs-3.22-bioc/R/bin/R CMD INSTALL optimalFlow StartedAt: 2025-10-03 15:12:53 -0400 (Fri, 03 Oct 2025) EndedAt: 2025-10-03 15:13:11 -0400 (Fri, 03 Oct 2025) EllapsedTime: 18.0 seconds RetCode: 0 Status: OK