Package: ompBAM Version: 1.15.0 Command: /Library/Frameworks/R.framework/Resources/bin/R CMD INSTALL ompBAM StartedAt: 2025-11-21 15:10:07 -0500 (Fri, 21 Nov 2025) EndedAt: 2025-11-21 15:10:24 -0500 (Fri, 21 Nov 2025) EllapsedTime: 17.5 seconds RetCode: 0 Status: OK