Package: ompBAM Version: 1.15.0 Command: /Library/Frameworks/R.framework/Resources/bin/R CMD build --keep-empty-dirs --no-resave-data ompBAM StartedAt: 2025-11-21 18:02:03 -0500 (Fri, 21 Nov 2025) EndedAt: 2025-11-21 18:02:34 -0500 (Fri, 21 Nov 2025) EllapsedTime: 30.9 seconds RetCode: 0 Status: OK PackageFile: ompBAM_1.15.0.tar.gz PackageFileSize: 3.142 MiB