Package: ompBAM Version: 1.15.0 Command: /Library/Frameworks/R.framework/Resources/bin/R CMD INSTALL ompBAM StartedAt: 2025-11-14 15:02:02 -0500 (Fri, 14 Nov 2025) EndedAt: 2025-11-14 15:02:05 -0500 (Fri, 14 Nov 2025) EllapsedTime: 2.6 seconds RetCode: 0 Status: OK