Package: ompBAM Version: 1.15.0 Command: /Library/Frameworks/R.framework/Resources/bin/R CMD build --keep-empty-dirs --no-resave-data ompBAM StartedAt: 2025-11-14 17:11:30 -0500 (Fri, 14 Nov 2025) EndedAt: 2025-11-14 17:11:39 -0500 (Fri, 14 Nov 2025) EllapsedTime: 9.1 seconds RetCode: 0 Status: OK PackageFile: ompBAM_1.15.0.tar.gz PackageFileSize: 3.143 MiB