Package: omicplotR Version: 1.31.0 Command: /home/biocbuild/bbs-3.23-bioc/R/bin/R CMD build --keep-empty-dirs --no-resave-data omicplotR StartedAt: 2025-11-19 19:07:03 -0500 (Wed, 19 Nov 2025) EndedAt: 2025-11-19 19:07:28 -0500 (Wed, 19 Nov 2025) EllapsedTime: 25.0 seconds RetCode: 0 Status: OK PackageFile: omicplotR_1.31.0.tar.gz PackageFileSize: 1.64 MiB