Package: omicade4 Version: 1.49.0 Command: /home/biocbuild/bbs-3.22-bioc/R/bin/R CMD INSTALL omicade4 StartedAt: 2025-09-29 15:21:53 -0400 (Mon, 29 Sep 2025) EndedAt: 2025-09-29 15:22:22 -0400 (Mon, 29 Sep 2025) EllapsedTime: 28.9 seconds RetCode: 0 Status: OK