Package: oligoClasses Version: 1.71.0 Command: /home/biocbuild/bbs-3.22-bioc/R/bin/R CMD build --keep-empty-dirs --no-resave-data --md5 oligoClasses StartedAt: 2025-10-17 19:01:35 -0400 (Fri, 17 Oct 2025) EndedAt: 2025-10-17 19:01:36 -0400 (Fri, 17 Oct 2025) EllapsedTime: 1.0 seconds RetCode: 0 Status: OK PackageFile: oligoClasses_1.71.0.tar.gz PackageFileSize: 367.4 KiB