Package: octad Version: 1.11.1 Command: /home/biocbuild/bbs-3.22-bioc/R/bin/R CMD INSTALL octad StartedAt: 2025-10-22 15:56:14 -0400 (Wed, 22 Oct 2025) EndedAt: 2025-10-22 15:57:12 -0400 (Wed, 22 Oct 2025) EllapsedTime: 57.9 seconds RetCode: 0 Status: OK