Package: nullranges Version: 1.17.3 Command: /Library/Frameworks/R.framework/Resources/bin/R CMD INSTALL nullranges StartedAt: 2025-11-21 15:18:53 -0500 (Fri, 21 Nov 2025) EndedAt: 2025-11-21 15:19:09 -0500 (Fri, 21 Nov 2025) EllapsedTime: 16.1 seconds RetCode: 0 Status: OK