Package: nullranges Version: 1.17.3 Command: /Library/Frameworks/R.framework/Resources/bin/R CMD build --keep-empty-dirs --no-resave-data nullranges StartedAt: 2025-11-21 17:09:44 -0500 (Fri, 21 Nov 2025) EndedAt: 2025-11-21 17:10:45 -0500 (Fri, 21 Nov 2025) EllapsedTime: 61.7 seconds RetCode: 0 Status: OK PackageFile: nullranges_1.17.3.tar.gz PackageFileSize: 5.058 MiB