Package: nullranges Version: 1.17.3 Command: rm -rf nullranges.buildbin-libdir && mkdir nullranges.buildbin-libdir && /Users/biocbuild/BBS/utils/build-universal.sh nullranges_1.17.3.tar.gz /Library/Frameworks/R.framework/Resources/bin/R nullranges.buildbin-libdir StartedAt: 2025-11-21 23:43:32 -0500 (Fri, 21 Nov 2025) EndedAt: 2025-11-21 23:43:51 -0500 (Fri, 21 Nov 2025) EllapsedTime: 19.4 seconds RetCode: 0 Status: OK PackageFile: nullranges_1.17.3.tgz PackageFileSize: 5.01 MiB