Package: nuCpos Version: 1.27.0 Command: /home/biocbuild/bbs-3.22-bioc/R/bin/R CMD INSTALL nuCpos StartedAt: 2025-10-27 15:04:48 -0400 (Mon, 27 Oct 2025) EndedAt: 2025-10-27 15:04:59 -0400 (Mon, 27 Oct 2025) EllapsedTime: 11.3 seconds RetCode: 0 Status: OK