Package: normalize450K Version: 1.37.0 Command: /home/biocbuild/bbs-3.22-bioc/R/bin/R CMD INSTALL normalize450K StartedAt: 2025-10-06 15:56:39 -0400 (Mon, 06 Oct 2025) EndedAt: 2025-10-06 15:56:56 -0400 (Mon, 06 Oct 2025) EllapsedTime: 16.6 seconds RetCode: 0 Status: OK