Package: netSmooth Version: 1.31.0 Command: /Library/Frameworks/R.framework/Resources/bin/R CMD INSTALL netSmooth StartedAt: 2025-11-24 15:30:14 -0500 (Mon, 24 Nov 2025) EndedAt: 2025-11-24 15:30:33 -0500 (Mon, 24 Nov 2025) EllapsedTime: 19.0 seconds RetCode: 0 Status: OK