Package: netSmooth Version: 1.31.0 Command: /Library/Frameworks/R.framework/Resources/bin/R CMD build --keep-empty-dirs --no-resave-data netSmooth StartedAt: 2025-11-23 17:09:56 -0500 (Sun, 23 Nov 2025) EndedAt: 2025-11-23 17:10:40 -0500 (Sun, 23 Nov 2025) EllapsedTime: 44.5 seconds RetCode: 0 Status: OK PackageFile: netSmooth_1.31.0.tar.gz PackageFileSize: 3.07 MiB