Package: netSmooth Version: 1.31.0 Command: rm -rf netSmooth.buildbin-libdir && mkdir netSmooth.buildbin-libdir && /Users/biocbuild/BBS/utils/build-universal.sh netSmooth_1.31.0.tar.gz /Library/Frameworks/R.framework/Resources/bin/R netSmooth.buildbin-libdir StartedAt: 2025-11-23 23:46:37 -0500 (Sun, 23 Nov 2025) EndedAt: 2025-11-23 23:47:01 -0500 (Sun, 23 Nov 2025) EllapsedTime: 23.5 seconds RetCode: 0 Status: OK PackageFile: netSmooth_1.31.0.tgz PackageFileSize: 4.102 MiB