Package: ndexr Version: 1.31.0 Command: /home/biocbuild/bbs-3.22-bioc/R/bin/R CMD INSTALL ndexr StartedAt: 2025-10-01 15:11:16 -0400 (Wed, 01 Oct 2025) EndedAt: 2025-10-01 15:11:19 -0400 (Wed, 01 Oct 2025) EllapsedTime: 3.0 seconds RetCode: 0 Status: OK