Package: ndexr Version: 1.31.0 Command: /home/biocbuild/bbs-3.22-bioc/R/bin/R CMD build --keep-empty-dirs --no-resave-data --md5 ndexr StartedAt: 2025-10-01 19:21:51 -0400 (Wed, 01 Oct 2025) EndedAt: 2025-10-01 19:22:05 -0400 (Wed, 01 Oct 2025) EllapsedTime: 14.0 seconds RetCode: 0 Status: OK PackageFile: ndexr_1.31.0.tar.gz PackageFileSize: 948.6 KiB