Package: myvariant Version: 1.39.1 Command: /home/biocbuild/bbs-3.22-bioc/R/bin/R CMD INSTALL myvariant StartedAt: 2025-10-16 16:40:51 -0400 (Thu, 16 Oct 2025) EndedAt: 2025-10-16 16:41:34 -0400 (Thu, 16 Oct 2025) EllapsedTime: 42.6 seconds RetCode: 0 Status: OK