Package: myvariant Version: 1.39.1 Command: /home/biocbuild/bbs-3.22-bioc/R/bin/R CMD build --keep-empty-dirs --no-resave-data --md5 myvariant StartedAt: 2025-10-17 18:55:15 -0400 (Fri, 17 Oct 2025) EndedAt: 2025-10-17 18:56:21 -0400 (Fri, 17 Oct 2025) EllapsedTime: 66.0 seconds RetCode: 0 Status: OK PackageFile: myvariant_1.39.1.tar.gz PackageFileSize: 159.3 KiB