Package: multtest Version: 2.65.0 Command: /home/biocbuild/bbs-3.22-bioc/R/bin/R CMD INSTALL multtest StartedAt: 2025-10-08 15:23:07 -0400 (Wed, 08 Oct 2025) EndedAt: 2025-10-08 15:23:20 -0400 (Wed, 08 Oct 2025) EllapsedTime: 12.4 seconds RetCode: 0 Status: OK